BEGIN:VCALENDAR
VERSION:2.0
PRODID:-// - ECPv6.10.2//NONSGML v1.0//EN
CALSCALE:GREGORIAN
METHOD:PUBLISH
X-ORIGINAL-URL:https://liguemotohautsdefrance.fr
X-WR-CALDESC:Évènements pour 
REFRESH-INTERVAL;VALUE=DURATION:PT1H
X-Robots-Tag:noindex
X-PUBLISHED-TTL:PT1H
BEGIN:VTIMEZONE
TZID:Europe/Paris
BEGIN:DAYLIGHT
TZOFFSETFROM:+0100
TZOFFSETTO:+0200
TZNAME:CEST
DTSTART:20260329T010000
END:DAYLIGHT
BEGIN:STANDARD
TZOFFSETFROM:+0200
TZOFFSETTO:+0100
TZNAME:CET
DTSTART:20261025T010000
END:STANDARD
END:VTIMEZONE
BEGIN:VEVENT
DTSTART;VALUE=DATE:20260419
DTEND;VALUE=DATE:20260420
DTSTAMP:20260422T121631
CREATED:20260306T143343Z
LAST-MODIFIED:20260401T095842Z
UID:6619-1776556800-1776643199@liguemotohautsdefrance.fr
SUMMARY:Trial Ligue HDF Wingles (62)
DESCRIPTION:Trial Fédéral Vintage
URL:https://liguemotohautsdefrance.fr/event/trial-ligue-hdf-wingles-62
LOCATION:Wingles\, Billy Berclau\, 62138
CATEGORIES:Trial
ATTACH;FMTTYPE=image/jpeg:https://liguemotohautsdefrance.fr/wp-content/uploads/2026/03/wingles.jpg
ORGANIZER;CN="MC Des Etangs":MAILTO:mcetangs@sfr.fr
END:VEVENT
BEGIN:VEVENT
DTSTART;VALUE=DATE:20260419
DTEND;VALUE=DATE:20260420
DTSTAMP:20260422T121631
CREATED:20260306T131350Z
LAST-MODIFIED:20260318T102337Z
UID:6617-1776556800-1776643199@liguemotohautsdefrance.fr
SUMMARY:Chpt Promotion Gouy en Artois (62)
DESCRIPTION:Educatifs 50cc 65cc 85cc \nPromotion
URL:https://liguemotohautsdefrance.fr/event/chpt-promotion-gouy-en-artois-62
LOCATION:Gouy en Artois\, 62123
CATEGORIES:Motocross
ATTACH;FMTTYPE=image/jpeg:https://liguemotohautsdefrance.fr/wp-content/uploads/2026/03/ooapin.jpg
ORGANIZER;CN="MC Gouy en Artois":MAILTO:leteve.pierre@free.fr
END:VEVENT
BEGIN:VEVENT
DTSTART;VALUE=DATE:20260412
DTEND;VALUE=DATE:20260413
DTSTAMP:20260422T121631
CREATED:20260306T131005Z
LAST-MODIFIED:20260306T131040Z
UID:6613-1775952000-1776038399@liguemotohautsdefrance.fr
SUMMARY:Chpt Promotion Blangy Sous Poix (80)
DESCRIPTION:Educatifs 50cc 65cc 85cc \nPromotion \nCourse Nationale
URL:https://liguemotohautsdefrance.fr/event/chpt-promotion-blangy-sous-poix-80
CATEGORIES:Motocross
ATTACH;FMTTYPE=image/png:https://liguemotohautsdefrance.fr/wp-content/uploads/2026/03/Affiche-12-avril-moto-cross-.png
END:VEVENT
BEGIN:VEVENT
DTSTART;VALUE=DATE:20260405
DTEND;VALUE=DATE:20260406
DTSTAMP:20260422T121631
CREATED:20260306T130727Z
LAST-MODIFIED:20260306T130727Z
UID:6609-1775347200-1775433599@liguemotohautsdefrance.fr
SUMMARY:Chpt Ligue Plomion (02)
DESCRIPTION:Chpt 85cc \nChpt 125cc \nChpt 250cc \nChpt 450cc
URL:https://liguemotohautsdefrance.fr/event/chpt-ligue-plomion-02
LOCATION:Plomion\, Plomion\, France
CATEGORIES:Motocross
ATTACH;FMTTYPE=image/jpeg:https://liguemotohautsdefrance.fr/wp-content/uploads/2026/03/ooapin.jpeg
ORGANIZER;CN="MC Marle et Voharies":MAILTO:motocrossplomion@orange.fr
END:VEVENT
BEGIN:VEVENT
DTSTART;VALUE=DATE:20260322
DTEND;VALUE=DATE:20260323
DTSTAMP:20260422T121631
CREATED:20260306T125912Z
LAST-MODIFIED:20260319T103318Z
UID:6601-1774137600-1774223999@liguemotohautsdefrance.fr
SUMMARY:Endurance TT Blangy sous Poix (80)
DESCRIPTION:Horaire modifié Ep 58 au 23 01 \nMotos Solos et Duos \n 
URL:https://liguemotohautsdefrance.fr/event/endurance-tt-blangy-sous-poix-80
LOCATION:Blangy S/Poix\, BLANGY SOUS POIX\, 80290
CATEGORIES:Enduro
ATTACH;FMTTYPE=image/png:https://liguemotohautsdefrance.fr/wp-content/uploads/2026/03/Affiche-endurance-mars.png
ORGANIZER;CN="Holeshot MC":MAILTO:holeshot.blangy@free.fr
END:VEVENT
BEGIN:VEVENT
DTSTART;VALUE=DATE:20260322
DTEND;VALUE=DATE:20260323
DTSTAMP:20260422T121631
CREATED:20260306T130315Z
LAST-MODIFIED:20260319T103024Z
UID:6606-1774137600-1774223999@liguemotohautsdefrance.fr
SUMMARY:Chpt France Side Car Rozoy sur Serre (02)
DESCRIPTION:Horaires Rozoy modifiés au 19.03 \nSide Car \nChpt 450cc Ligue HDF \nChpt 85 Minimes Cadets Ligue HDF
URL:https://liguemotohautsdefrance.fr/event/chpt-france-side-car-rozoy-sur-serre-02
LOCATION:Rozoy sur Serre\, Terrain de la Justice\, Rozoy Sur Serre\, 02360
CATEGORIES:Motocross
ATTACH;FMTTYPE=image/jpeg:https://liguemotohautsdefrance.fr/wp-content/uploads/2026/03/Affiche-Rozoy.jpg
ORGANIZER;CN="MC Rozoy":MAILTO:patrick.bernaille66@gmail.com
END:VEVENT
BEGIN:VEVENT
DTSTART;VALUE=DATE:20260315
DTEND;VALUE=DATE:20260316
DTSTAMP:20260422T121631
CREATED:20260305T132909Z
LAST-MODIFIED:20260306T130805Z
UID:6522-1773532800-1773619199@liguemotohautsdefrance.fr
SUMMARY:Endurance TT Maricourt (80)
DESCRIPTION:Quads 2 h 30 \nMotos 3 h 30
URL:https://liguemotohautsdefrance.fr/event/endurance-tt-maricourt
LOCATION:Maricourt\, Maricourt\, France
CATEGORIES:Enduro
ATTACH;FMTTYPE=image/jpeg:https://liguemotohautsdefrance.fr/wp-content/uploads/2026/03/IMG_9287-scaled.jpeg
ORGANIZER;CN="AS MARICOURT":MAILTO:binan.patrick@gmail.com
END:VEVENT
END:VCALENDAR