BEGIN:VCALENDAR
VERSION:2.0
PRODID:-// - ECPv6.10.2//NONSGML v1.0//EN
CALSCALE:GREGORIAN
METHOD:PUBLISH
X-ORIGINAL-URL:https://liguemotohautsdefrance.fr
X-WR-CALDESC:Évènements pour 
REFRESH-INTERVAL;VALUE=DURATION:PT1H
X-Robots-Tag:noindex
X-PUBLISHED-TTL:PT1H
BEGIN:VTIMEZONE
TZID:Europe/Paris
BEGIN:DAYLIGHT
TZOFFSETFROM:+0100
TZOFFSETTO:+0200
TZNAME:CEST
DTSTART:20260329T010000
END:DAYLIGHT
BEGIN:STANDARD
TZOFFSETFROM:+0200
TZOFFSETTO:+0100
TZNAME:CET
DTSTART:20261025T010000
END:STANDARD
END:VTIMEZONE
BEGIN:VEVENT
DTSTART;VALUE=DATE:20260525
DTEND;VALUE=DATE:20260526
DTSTAMP:20260420T070737
CREATED:20260309T111450Z
LAST-MODIFIED:20260415T131332Z
UID:6645-1779667200-1779753599@liguemotohautsdefrance.fr
SUMMARY:Chpt Ligue HDF Cassel (59)
DESCRIPTION:Chpt 85cc \nChpt 125cc \nChpt 250cc \nChpt 450cc \nSuperpôle
URL:https://liguemotohautsdefrance.fr/event/chpt-ligue-hdf-cassel-59
LOCATION:Cassel\, 2297 Sentier de Kerf Hof\, CASSEL\, 59670\, France
CATEGORIES:Motocross
ATTACH;FMTTYPE=image/png:https://liguemotohautsdefrance.fr/wp-content/uploads/2026/03/cassel.png
ORGANIZER;CN="Cassel MC":MAILTO:rudypotissek@orange.fr
END:VEVENT
END:VCALENDAR