BEGIN:VCALENDAR
VERSION:2.0
PRODID:-// - ECPv6.10.2//NONSGML v1.0//EN
CALSCALE:GREGORIAN
METHOD:PUBLISH
X-ORIGINAL-URL:https://liguemotohautsdefrance.fr
X-WR-CALDESC:Évènements pour 
REFRESH-INTERVAL;VALUE=DURATION:PT1H
X-Robots-Tag:noindex
X-PUBLISHED-TTL:PT1H
BEGIN:VTIMEZONE
TZID:Europe/Paris
BEGIN:DAYLIGHT
TZOFFSETFROM:+0100
TZOFFSETTO:+0200
TZNAME:CEST
DTSTART:20260329T010000
END:DAYLIGHT
BEGIN:STANDARD
TZOFFSETFROM:+0200
TZOFFSETTO:+0100
TZNAME:CET
DTSTART:20261025T010000
END:STANDARD
END:VTIMEZONE
BEGIN:VEVENT
DTSTART;VALUE=DATE:20260517
DTEND;VALUE=DATE:20260518
DTSTAMP:20260422T121145
CREATED:20260309T110719Z
LAST-MODIFIED:20260415T131411Z
UID:6639-1778976000-1779062399@liguemotohautsdefrance.fr
SUMMARY:Chpt Ligue HDF Catillon sur Sambre (59)
DESCRIPTION:Chpt Féminines \nChpt Vétérans \nTrophée Open \nNational
URL:https://liguemotohautsdefrance.fr/event/chpt-ligue-hdf-catillon-sur-sambre-59
CATEGORIES:Motocross
ATTACH;FMTTYPE=image/png:https://liguemotohautsdefrance.fr/wp-content/uploads/2026/03/catillon.png
ORGANIZER;CN="Quad  Moto Sambre":MAILTO:luc.jeanlamouret@outlook.fr
END:VEVENT
BEGIN:VEVENT
DTSTART;VALUE=DATE:20260517
DTEND;VALUE=DATE:20260518
DTSTAMP:20260422T121145
CREATED:20260309T111102Z
LAST-MODIFIED:20260309T111102Z
UID:6642-1778976000-1779062399@liguemotohautsdefrance.fr
SUMMARY:Chpt France National 125 Crisolles (60)
DESCRIPTION:Chpt France 125cc \nOpen National \nChallenge STARK VARG (Electrique) \nGP Mémory
URL:https://liguemotohautsdefrance.fr/event/chpt-france-national-125-crisolles-60
CATEGORIES:Motocross
ATTACH;FMTTYPE=image/jpeg:https://liguemotohautsdefrance.fr/wp-content/uploads/2026/03/622121584_1352905820187290_1417001662146357157_n.jpg
END:VEVENT
END:VCALENDAR