BEGIN:VCALENDAR
VERSION:2.0
PRODID:-// - ECPv6.10.2//NONSGML v1.0//EN
CALSCALE:GREGORIAN
METHOD:PUBLISH
X-ORIGINAL-URL:https://liguemotohautsdefrance.fr
X-WR-CALDESC:Évènements pour 
REFRESH-INTERVAL;VALUE=DURATION:PT1H
X-Robots-Tag:noindex
X-PUBLISHED-TTL:PT1H
BEGIN:VTIMEZONE
TZID:Europe/Paris
BEGIN:DAYLIGHT
TZOFFSETFROM:+0100
TZOFFSETTO:+0200
TZNAME:CEST
DTSTART:20260329T010000
END:DAYLIGHT
BEGIN:STANDARD
TZOFFSETFROM:+0200
TZOFFSETTO:+0100
TZNAME:CET
DTSTART:20261025T010000
END:STANDARD
END:VTIMEZONE
BEGIN:VEVENT
DTSTART;VALUE=DATE:20260510
DTEND;VALUE=DATE:20260511
DTSTAMP:20260420T070138
CREATED:20260309T103637Z
LAST-MODIFIED:20260309T110334Z
UID:6636-1778371200-1778457599@liguemotohautsdefrance.fr
SUMMARY:Chpt Promotion Ligue HDF  Fontaine Les Croisilles (59)
DESCRIPTION:Educatifs 50cc- 65 cc – 85cc \nPromotion
URL:https://liguemotohautsdefrance.fr/event/chpt-promotion-ligue-hdf-fontaine-les-croisilles-59
LOCATION:Fontaine les Croisilles\, Fontaine les Croisilles\, 62128
CATEGORIES:Motocross
ORGANIZER;CN="MC de L'Artois":MAILTO:celine.allard1002@outkook.fr
END:VEVENT
END:VCALENDAR