BEGIN:VCALENDAR
VERSION:2.0
PRODID:-// - ECPv6.10.2//NONSGML v1.0//EN
CALSCALE:GREGORIAN
METHOD:PUBLISH
X-ORIGINAL-URL:https://liguemotohautsdefrance.fr
X-WR-CALDESC:Évènements pour 
REFRESH-INTERVAL;VALUE=DURATION:PT1H
X-Robots-Tag:noindex
X-PUBLISHED-TTL:PT1H
BEGIN:VTIMEZONE
TZID:Europe/Paris
BEGIN:DAYLIGHT
TZOFFSETFROM:+0100
TZOFFSETTO:+0200
TZNAME:CEST
DTSTART:20260329T010000
END:DAYLIGHT
BEGIN:STANDARD
TZOFFSETFROM:+0200
TZOFFSETTO:+0100
TZNAME:CET
DTSTART:20261025T010000
END:STANDARD
END:VTIMEZONE
BEGIN:VEVENT
DTSTART;VALUE=DATE:20260508
DTEND;VALUE=DATE:20260509
DTSTAMP:20260420T070139
CREATED:20260309T103213Z
LAST-MODIFIED:20260309T103213Z
UID:6630-1778198400-1778284799@liguemotohautsdefrance.fr
SUMMARY:Course Quad/ Quad Kid's et Course Vintage - Loon Plage (62)
DESCRIPTION:Course sur Sable \nQuads Kid’s \nQuads \nMotos Vintage \n 
URL:https://liguemotohautsdefrance.fr/event/course-quad-quad-kids-et-course-vintage-loon-plage-62
ORGANIZER;CN="Arras Quad Organisation":MAILTO:sebert.benoit@sfr.fr
END:VEVENT
END:VCALENDAR