BEGIN:VCALENDAR
VERSION:2.0
PRODID:-// - ECPv6.10.2//NONSGML v1.0//EN
CALSCALE:GREGORIAN
METHOD:PUBLISH
X-ORIGINAL-URL:https://liguemotohautsdefrance.fr
X-WR-CALDESC:Évènements pour 
REFRESH-INTERVAL;VALUE=DURATION:PT1H
X-Robots-Tag:noindex
X-PUBLISHED-TTL:PT1H
BEGIN:VTIMEZONE
TZID:Europe/Paris
BEGIN:DAYLIGHT
TZOFFSETFROM:+0100
TZOFFSETTO:+0200
TZNAME:CEST
DTSTART:20260329T010000
END:DAYLIGHT
BEGIN:STANDARD
TZOFFSETFROM:+0200
TZOFFSETTO:+0100
TZNAME:CET
DTSTART:20261025T010000
END:STANDARD
END:VTIMEZONE
BEGIN:VEVENT
DTSTART;VALUE=DATE:20260502
DTEND;VALUE=DATE:20260504
DTSTAMP:20260420T052918
CREATED:20260309T102820Z
LAST-MODIFIED:20260309T102820Z
UID:6628-1777680000-1777852799@liguemotohautsdefrance.fr
SUMMARY:Chpt France WMA - Vitesse - Croix en Ternois
DESCRIPTION:
URL:https://liguemotohautsdefrance.fr/event/chpt-france-wma-vitesse-croix-en-ternois
LOCATION:Circuit de Vitesse Croix en Ternois\, RN 39\, CROIX EN TERNOIS\, 62130
CATEGORIES:Vitesse
ORGANIZER;CN="ASM Croix en Ternois":MAILTO:contact@circuitdecroix.com
END:VEVENT
BEGIN:VEVENT
DTSTART;VALUE=DATE:20260503
DTEND;VALUE=DATE:20260504
DTSTAMP:20260420T052918
CREATED:20260309T103403Z
LAST-MODIFIED:20260326T111141Z
UID:6633-1777766400-1777852799@liguemotohautsdefrance.fr
SUMMARY:Chpt Ligue HDF - Maricourt (80)
DESCRIPTION:Chpt 85cc \nChpt 125cc \nChpt 250cc \nChpt 450cc
URL:https://liguemotohautsdefrance.fr/event/chpt-promotion-ligue-hdf-maricourt-80
LOCATION:Maricourt\, Maricourt\, France
CATEGORIES:Motocross
ATTACH;FMTTYPE=image/png:https://liguemotohautsdefrance.fr/wp-content/uploads/2026/03/maricourt-3-MAI.png
ORGANIZER;CN="AS MARICOURT":MAILTO:binan.patrick@gmail.com
END:VEVENT
END:VCALENDAR